BEGIN:VCALENDAR
VERSION:2.0
PRODID:-//Helen R. Weems Piano Studio - ECPv6.15.20//NONSGML v1.0//EN
CALSCALE:GREGORIAN
METHOD:PUBLISH
X-ORIGINAL-URL:https://weemspiano.com
X-WR-CALDESC:Events for Helen R. Weems Piano Studio
REFRESH-INTERVAL;VALUE=DURATION:PT1H
X-Robots-Tag:noindex
X-PUBLISHED-TTL:PT1H
BEGIN:VTIMEZONE
TZID:America/New_York
BEGIN:DAYLIGHT
TZOFFSETFROM:-0500
TZOFFSETTO:-0400
TZNAME:EDT
DTSTART:20230312T070000
END:DAYLIGHT
BEGIN:STANDARD
TZOFFSETFROM:-0400
TZOFFSETTO:-0500
TZNAME:EST
DTSTART:20231105T060000
END:STANDARD
BEGIN:DAYLIGHT
TZOFFSETFROM:-0500
TZOFFSETTO:-0400
TZNAME:EDT
DTSTART:20240310T070000
END:DAYLIGHT
BEGIN:STANDARD
TZOFFSETFROM:-0400
TZOFFSETTO:-0500
TZNAME:EST
DTSTART:20241103T060000
END:STANDARD
BEGIN:DAYLIGHT
TZOFFSETFROM:-0500
TZOFFSETTO:-0400
TZNAME:EDT
DTSTART:20250309T070000
END:DAYLIGHT
BEGIN:STANDARD
TZOFFSETFROM:-0400
TZOFFSETTO:-0500
TZNAME:EST
DTSTART:20251102T060000
END:STANDARD
END:VTIMEZONE
BEGIN:VEVENT
DTSTART;TZID=America/New_York:20240517T090000
DTEND;TZID=America/New_York:20240517T130000
DTSTAMP:20260424T223339
CREATED:20150829T193818Z
LAST-MODIFIED:20230820T032647Z
UID:192-1715936400-1715950800@weemspiano.com
SUMMARY:MSMTA High School Piano Examination Day 1
DESCRIPTION:Big day for advanced students who are extremely prepared.  Deadline for this event is March 31.  If/when we return to in person multiple day exams\, please let me know which day and time works best for you.
URL:https://weemspiano.com/event/msmta-high-school-piano-examination
LOCATION:zoom
END:VEVENT
END:VCALENDAR