BEGIN:VCALENDAR
VERSION:2.0
PRODID:-//Helen R. Weems Piano Studio - ECPv6.15.20//NONSGML v1.0//EN
CALSCALE:GREGORIAN
METHOD:PUBLISH
X-WR-CALNAME:Helen R. Weems Piano Studio
X-ORIGINAL-URL:https://weemspiano.com
X-WR-CALDESC:Events for Helen R. Weems Piano Studio
REFRESH-INTERVAL;VALUE=DURATION:PT1H
X-Robots-Tag:noindex
X-PUBLISHED-TTL:PT1H
BEGIN:VTIMEZONE
TZID:America/New_York
BEGIN:DAYLIGHT
TZOFFSETFROM:-0500
TZOFFSETTO:-0400
TZNAME:EDT
DTSTART:20150308T070000
END:DAYLIGHT
BEGIN:STANDARD
TZOFFSETFROM:-0400
TZOFFSETTO:-0500
TZNAME:EST
DTSTART:20151101T060000
END:STANDARD
BEGIN:DAYLIGHT
TZOFFSETFROM:-0500
TZOFFSETTO:-0400
TZNAME:EDT
DTSTART:20160313T070000
END:DAYLIGHT
BEGIN:STANDARD
TZOFFSETFROM:-0400
TZOFFSETTO:-0500
TZNAME:EST
DTSTART:20161106T060000
END:STANDARD
BEGIN:DAYLIGHT
TZOFFSETFROM:-0500
TZOFFSETTO:-0400
TZNAME:EDT
DTSTART:20170312T070000
END:DAYLIGHT
BEGIN:STANDARD
TZOFFSETFROM:-0400
TZOFFSETTO:-0500
TZNAME:EST
DTSTART:20171105T060000
END:STANDARD
BEGIN:DAYLIGHT
TZOFFSETFROM:-0500
TZOFFSETTO:-0400
TZNAME:EDT
DTSTART:20180311T070000
END:DAYLIGHT
BEGIN:STANDARD
TZOFFSETFROM:-0400
TZOFFSETTO:-0500
TZNAME:EST
DTSTART:20181104T060000
END:STANDARD
BEGIN:DAYLIGHT
TZOFFSETFROM:-0500
TZOFFSETTO:-0400
TZNAME:EDT
DTSTART:20190310T070000
END:DAYLIGHT
BEGIN:STANDARD
TZOFFSETFROM:-0400
TZOFFSETTO:-0500
TZNAME:EST
DTSTART:20191103T060000
END:STANDARD
BEGIN:DAYLIGHT
TZOFFSETFROM:-0500
TZOFFSETTO:-0400
TZNAME:EDT
DTSTART:20200308T070000
END:DAYLIGHT
BEGIN:STANDARD
TZOFFSETFROM:-0400
TZOFFSETTO:-0500
TZNAME:EST
DTSTART:20201101T060000
END:STANDARD
BEGIN:DAYLIGHT
TZOFFSETFROM:-0500
TZOFFSETTO:-0400
TZNAME:EDT
DTSTART:20210314T070000
END:DAYLIGHT
BEGIN:STANDARD
TZOFFSETFROM:-0400
TZOFFSETTO:-0500
TZNAME:EST
DTSTART:20211107T060000
END:STANDARD
BEGIN:DAYLIGHT
TZOFFSETFROM:-0500
TZOFFSETTO:-0400
TZNAME:EDT
DTSTART:20220313T070000
END:DAYLIGHT
BEGIN:STANDARD
TZOFFSETFROM:-0400
TZOFFSETTO:-0500
TZNAME:EST
DTSTART:20221106T060000
END:STANDARD
BEGIN:DAYLIGHT
TZOFFSETFROM:-0500
TZOFFSETTO:-0400
TZNAME:EDT
DTSTART:20230312T070000
END:DAYLIGHT
BEGIN:STANDARD
TZOFFSETFROM:-0400
TZOFFSETTO:-0500
TZNAME:EST
DTSTART:20231105T060000
END:STANDARD
BEGIN:DAYLIGHT
TZOFFSETFROM:-0500
TZOFFSETTO:-0400
TZNAME:EDT
DTSTART:20240310T070000
END:DAYLIGHT
BEGIN:STANDARD
TZOFFSETFROM:-0400
TZOFFSETTO:-0500
TZNAME:EST
DTSTART:20241103T060000
END:STANDARD
BEGIN:DAYLIGHT
TZOFFSETFROM:-0500
TZOFFSETTO:-0400
TZNAME:EDT
DTSTART:20250309T070000
END:DAYLIGHT
BEGIN:STANDARD
TZOFFSETFROM:-0400
TZOFFSETTO:-0500
TZNAME:EST
DTSTART:20251102T060000
END:STANDARD
BEGIN:DAYLIGHT
TZOFFSETFROM:-0500
TZOFFSETTO:-0400
TZNAME:EDT
DTSTART:20260308T070000
END:DAYLIGHT
BEGIN:STANDARD
TZOFFSETFROM:-0400
TZOFFSETTO:-0500
TZNAME:EST
DTSTART:20261101T060000
END:STANDARD
END:VTIMEZONE
BEGIN:VTIMEZONE
TZID:America/Halifax
BEGIN:DAYLIGHT
TZOFFSETFROM:-0400
TZOFFSETTO:-0300
TZNAME:ADT
DTSTART:20160313T060000
END:DAYLIGHT
BEGIN:STANDARD
TZOFFSETFROM:-0300
TZOFFSETTO:-0400
TZNAME:AST
DTSTART:20161106T050000
END:STANDARD
BEGIN:DAYLIGHT
TZOFFSETFROM:-0400
TZOFFSETTO:-0300
TZNAME:ADT
DTSTART:20170312T060000
END:DAYLIGHT
BEGIN:STANDARD
TZOFFSETFROM:-0300
TZOFFSETTO:-0400
TZNAME:AST
DTSTART:20171105T050000
END:STANDARD
BEGIN:DAYLIGHT
TZOFFSETFROM:-0400
TZOFFSETTO:-0300
TZNAME:ADT
DTSTART:20180311T060000
END:DAYLIGHT
BEGIN:STANDARD
TZOFFSETFROM:-0300
TZOFFSETTO:-0400
TZNAME:AST
DTSTART:20181104T050000
END:STANDARD
END:VTIMEZONE
BEGIN:VEVENT
DTSTART;VALUE=DATE:20251127
DTEND;VALUE=DATE:20251128
DTSTAMP:20260423T195642
CREATED:20150825T204702Z
LAST-MODIFIED:20250823T184008Z
UID:88-1764201600-1764287999@weemspiano.com
SUMMARY:Studio Closed
DESCRIPTION:
URL:https://weemspiano.com/event/studio-closed-2
LOCATION:MD
END:VEVENT
BEGIN:VEVENT
DTSTART;TZID=America/New_York:20251123T123000
DTEND;TZID=America/New_York:20251123T160000
DTSTAMP:20260423T195642
CREATED:20240831T165025Z
LAST-MODIFIED:20251101T223127Z
UID:130174-1763901000-1763913600@weemspiano.com
SUMMARY:STUDIO MASTER CLASS WITH BRIAN GANZ!
DESCRIPTION:The Washington Post has written: “One comes away from a recital by pianist Brian Ganz not only exhilarated by the power of the performance but also moved by his search for artistic truth.”  So it is with great excitement that I welcome Mr. Ganz to the piano studio to hold an exclusive master class for my students.  We have scheduled this event for Sunday\, November 23 at 12:30pm\, in my studio.  I encourage ALL my students to audit\, and my more advanced students are preparing for him. \nMr. Ganz shared first prize in the 1989 Marguerite Long Jacques Thibaud International Piano Competition and was third prize-winner of the 1991 Queen Elisabeth of Belgium International Piano Competition.  In April 2026\, Mr. Ganz will give his final performance of Chopin’s complete works\, a 15 year project in partnership with the National Philharmonic and Strathmore Arts Center. \nThis is going to be a special event\, especially for those who will play for him!
URL:https://weemspiano.com/event/studio-master-class-with-dr-bok-hwa-kim
LOCATION:Helen R. Weems Piano Studio\, 5473 Green Dory Lane\, Columbia\, MD\, 21044\, United States
END:VEVENT
BEGIN:VEVENT
DTSTART;TZID=America/New_York:20251116T150000
DTEND;TZID=America/New_York:20251116T170000
DTSTAMP:20260423T195642
CREATED:20220906T150708Z
LAST-MODIFIED:20251101T223340Z
UID:129914-1763305200-1763312400@weemspiano.com
SUMMARY:Brian Ganz - Concert Outing!
DESCRIPTION:Local boy done very\, very\, very good.  The mantle of Chopin Authority has been passed to this gentleman\, and he wears it with aplomb.  Brian Ganz is your Chopin man.  Ticket price (which is very modest) is for an adult\, who receives a free accompanying ticket for attending youth.  Further\, teenagers are free by themselves!  Tickets are available to purchase at the door with cash.  This concert is presented by Sunday’s at Three\, which deserves your support.
URL:https://weemspiano.com/event/brian-ganz-concert-outing
LOCATION:Christ Episcopal Church\, 6800 Oakland Mills Road\, Columbia\, MD\, 21045\, United States
END:VEVENT
BEGIN:VEVENT
DTSTART;TZID=America/New_York:20251024T073000
DTEND;TZID=America/New_York:20251026T190000
DTSTAMP:20260423T195642
CREATED:20150825T074958Z
LAST-MODIFIED:20250823T183105Z
UID:49-1761291000-1761505200@weemspiano.com
SUMMARY:MSMTA Keyboard Examination
DESCRIPTION:All students in this studio are expected to take this exam at least up to Level 5\, and those in the studio know that most students take it up until graduation.  Six students (and counting) have taken it to Level 10!  These live exams take place in my colleagues’ local studios: make sure to specify which day\, and whether you want your exam in the morning or afternoon.
URL:https://weemspiano.com/event/msmta-keyboard-examination
LOCATION:Various local studios\, United States
END:VEVENT
BEGIN:VEVENT
DTSTART;TZID=America/New_York:20251012T140000
DTEND;TZID=America/New_York:20251012T180000
DTSTAMP:20260423T195642
CREATED:20240831T170626Z
LAST-MODIFIED:20250823T184242Z
UID:130180-1760277600-1760292000@weemspiano.com
SUMMARY:Thomas Hecht Master Class at the MSMTA Conference
DESCRIPTION:This Master Class will be held at the studio of Dr. Junko Takahashi in Silver Spring\, and broadcast to the membership of MSMTA live.  If anyone in the studio is chosen to play for Mr. Hecht\, we will all want to watch!  Email me for zoom information.
URL:https://weemspiano.com/event/brian-ganz-master-class-at-the-msmta-conference
LOCATION:zoom
END:VEVENT
BEGIN:VEVENT
DTSTART;TZID=America/New_York:20251005T154500
DTEND;TZID=America/New_York:20251005T170000
DTSTAMP:20260423T195642
CREATED:20150825T074637Z
LAST-MODIFIED:20250823T184149Z
UID:48-1759679100-1759683600@weemspiano.com
SUMMARY:Fall Repertoire Class
DESCRIPTION:Everyone’s chance to get ready for the Keyboard Exam and any other early recital opportunities.
URL:https://weemspiano.com/event/fall-repertory-class
LOCATION:Helen R. Weems Piano Studio\, 5473 Green Dory Lane\, Columbia\, MD\, 21044\, United States
END:VEVENT
BEGIN:VEVENT
DTSTART;TZID=America/New_York:20250824T154500
DTEND;TZID=America/New_York:20250824T170000
DTSTAMP:20260423T195642
CREATED:20150825T073342Z
LAST-MODIFIED:20250716T194028Z
UID:43-1756050300-1756054800@weemspiano.com
SUMMARY:Kick-Off Repertoire Class
DESCRIPTION:OUTDOORS\,  BRING YOUR OWN CHAIR!! \nWELCOME BACK. PLAY WHAT YOU WISH! Come ready to play something for the Keyboard Exam\, or that you played at the last repertory class.
URL:https://weemspiano.com/event/kick-off-repertory-class
LOCATION:Helen R. Weems Piano Studio\, 5473 Green Dory Lane\, Columbia\, MD\, 21044\, United States
END:VEVENT
BEGIN:VEVENT
DTSTART;TZID=America/New_York:20250818T000000
DTEND;TZID=America/New_York:20250821T000000
DTSTAMP:20260423T195642
CREATED:20230820T035915Z
LAST-MODIFIED:20250716T195522Z
UID:130045-1755475200-1755734400@weemspiano.com
SUMMARY:First Week of Lessons
DESCRIPTION:Studio year begins August 18 this year\, and runs to June 26.
URL:https://weemspiano.com/event/first-week-of-lessons
LOCATION:Helen R. Weems Piano Studio\, 5473 Green Dory Lane\, Columbia\, MD\, 21044\, United States
END:VEVENT
BEGIN:VEVENT
DTSTART;TZID=America/New_York:20250723T100000
DTEND;TZID=America/New_York:20250723T111500
DTSTAMP:20260423T195642
CREATED:20150825T073119Z
LAST-MODIFIED:20250716T193806Z
UID:40-1753264800-1753269300@weemspiano.com
SUMMARY:Rita's Repertoire Class
DESCRIPTION:In the yard\, BYOChair!!!  You don’t want to miss this Repertory Class — it is self explanatory! \n 
URL:https://weemspiano.com/event/ritas-repertory-class
LOCATION:Helen R. Weems Piano Studio\, 5473 Green Dory Lane\, Columbia\, MD\, 21044\, United States
END:VEVENT
BEGIN:VEVENT
DTSTART;TZID=America/New_York:20240517T090000
DTEND;TZID=America/New_York:20240517T130000
DTSTAMP:20260423T195642
CREATED:20150829T193818Z
LAST-MODIFIED:20230820T032647Z
UID:192-1715936400-1715950800@weemspiano.com
SUMMARY:MSMTA High School Piano Examination Day 1
DESCRIPTION:Big day for advanced students who are extremely prepared.  Deadline for this event is March 31.  If/when we return to in person multiple day exams\, please let me know which day and time works best for you.
URL:https://weemspiano.com/event/msmta-high-school-piano-examination
LOCATION:zoom
END:VEVENT
BEGIN:VEVENT
DTSTART;VALUE=DATE:20240902
DTEND;VALUE=DATE:20240906
DTSTAMP:20260423T195642
CREATED:20150830T232145Z
LAST-MODIFIED:20240628T032554Z
UID:213-1725235200-1725580799@weemspiano.com
SUMMARY:First Week of Regular Lessons
DESCRIPTION:The lesson year runs officially from September 1 through June 30.
URL:https://weemspiano.com/event/first-day-of-lessons
LOCATION:Helen R. Weems Piano Studio\, 5473 Green Dory Lane\, Columbia\, MD\, 21044\, United States
END:VEVENT
BEGIN:VEVENT
DTSTART;TZID=America/New_York:20210514T090000
DTEND;TZID=America/New_York:20210514T130000
DTSTAMP:20260423T195642
CREATED:20150902T060509Z
LAST-MODIFIED:20210118T030220Z
UID:222-1620982800-1620997200@weemspiano.com
SUMMARY:MSMTA High School Piano Examination Day 2
DESCRIPTION:Pre-recorded videos for 2021.  Big day for advanced students who are extremely prepared.  Deadline for this event is February 1.  Please note the event is on Wednesday\, May 12\, and Friday\, May 14\,  Please let me know which day and time works best for you.
URL:https://weemspiano.com/event/msmta-high-school-examination-day-2
LOCATION:First Presbyterian Church of Howard County\, 9325 Presbyterian Cir\, Columbia\, MD\, 21045\, United States
END:VEVENT
BEGIN:VEVENT
DTSTART;TZID=America/New_York:20210306T190000
DTEND;TZID=America/New_York:20210306T200000
DTSTAMP:20260423T195642
CREATED:20201208T042255Z
LAST-MODIFIED:20210302T022718Z
UID:14045-1615057200-1615060800@weemspiano.com
SUMMARY:"Almost Spring" Concert for Those We Love
DESCRIPTION:All of this studio’s kids are excited to share their music with you\, our beloved friends and family.  Please call Helen at 410-997-7524 to inquire about receiving your zoom invitation to this sweet\, live event.
URL:https://weemspiano.com/event/the-holiday-concert-for-those-we-love
LOCATION:zoom
END:VEVENT
BEGIN:VEVENT
DTSTART;TZID=America/New_York:20210110T130000
DTEND;TZID=America/New_York:20210110T140000
DTSTAMP:20260423T195642
CREATED:20200710T000441Z
LAST-MODIFIED:20210105T034053Z
UID:1598-1610283600-1610287200@weemspiano.com
SUMMARY:Baroque Zoom Party\, Baby!
DESCRIPTION:A ZOOM event for those learning music by Handel\, Bach\, Scarlatti.  Are you playing Baroque music?  Then you’re in.
URL:https://weemspiano.com/event/baroque-party
LOCATION:zoom
END:VEVENT
BEGIN:VEVENT
DTSTART;TZID=America/New_York:20200805T190000
DTEND;TZID=America/New_York:20200805T200000
DTSTAMP:20260423T195642
CREATED:20200710T000828Z
LAST-MODIFIED:20200710T002344Z
UID:1600-1596654000-1596657600@weemspiano.com
SUMMARY:Summer Concert for Those We Love
DESCRIPTION:Let’s get our music out there.  Tell everyone you love to tune into our Zoom Event!  You need to be ready for this\, and try out your music at Rita’s Rep!
URL:https://weemspiano.com/event/summer-concert-for-those-we-love
LOCATION:zoom
END:VEVENT
BEGIN:VEVENT
DTSTART;TZID=America/New_York:20200426T150000
DTEND;TZID=America/New_York:20200426T170000
DTSTAMP:20260423T195642
CREATED:20150825T073957Z
LAST-MODIFIED:20200324T120901Z
UID:44-1587913200-1587920400@weemspiano.com
SUMMARY:CANCELLED Santiago Rodriguez Master Class
DESCRIPTION:THIS EVENT IS CANCELLED DUE TO CLOSURE OF HCC! This elegant pianist (Santiago Rodriguez) is coming back to HCC on April 26 for a Master Class.  The class is in Monteaboro Recital Hall. \nYou should also be aware of the recital Mr. Rodriguez will give at HCC on Saturday evening\, April 25.   \nFor tickets for the master class (or the Rodriguez concert): call the box office at HCC (443-518-1500) for the best deal on tickets.
URL:https://weemspiano.com/event/anderson-roe-master-class
LOCATION:HCC Horowitz Center\, 10901 Little Patuxent Parkway \, Columbia\, MD\, 21044\, United States
ORGANIZER;CN="Howard Community College":MAILTO:boxoffice@howardcc.edu
END:VEVENT
BEGIN:VEVENT
DTSTART;TZID=America/New_York:20170311T080000
DTEND;TZID=America/New_York:20170311T170000
DTSTAMP:20260423T195642
CREATED:20160606T035145Z
LAST-MODIFIED:20160606T035145Z
UID:411-1489219200-1489251600@weemspiano.com
SUMMARY:MSMTA Theory Examination
DESCRIPTION:Only every four years or so do I make this event available to my students.  If you are close to earning a DMA award\, scheduling and signing up for this test can help you achieve your goal.
URL:https://weemspiano.com/event/msmta-theory-examination
LOCATION:Lime Kiln Middle School\, 11650 Scaggsville Rd\, Fulton\, MD\, 20759\, United States
END:VEVENT
BEGIN:VEVENT
DTSTART;TZID=America/New_York:20170304T150000
DTEND;TZID=America/New_York:20170304T160000
DTSTAMP:20260423T195642
CREATED:20170111T195712Z
LAST-MODIFIED:20170111T195712Z
UID:566-1488639600-1488643200@weemspiano.com
SUMMARY:Theory Test Preparation
DESCRIPTION:This class if for those getting ready to take the MSMTA Theory Test on Saturday\, March 11.  This will be a sample test for students taking Levels 1 & 2 and students taking Levels 3 & 4\, altogether.
URL:https://weemspiano.com/event/theory-test-preparation
LOCATION:Helen R. Weems Piano Studio\, 5473 Green Dory Lane\, Columbia\, MD\, 21044\, United States
END:VEVENT
BEGIN:VEVENT
DTSTART;TZID=America/Halifax:20170121T170000
DTEND;TZID=America/Halifax:20170121T184500
DTSTAMP:20260423T195642
CREATED:20150829T185627Z
LAST-MODIFIED:20170102T024431Z
UID:176-1485018000-1485024300@weemspiano.com
SUMMARY:Teen Movie Night
DESCRIPTION:Teens only!  Come watch a movie about music with your friends\, and have some glutinous pizza and (gluten free) cookies.  This year’s movie is Alive Inside (NR).
URL:https://weemspiano.com/event/teen-movie-night
LOCATION:MD
END:VEVENT
BEGIN:VEVENT
DTSTART;VALUE=DATE:20160724
DTEND;VALUE=DATE:20160728
DTSTAMP:20260423T195642
CREATED:20160606T034340Z
LAST-MODIFIED:20160606T034340Z
UID:408-1469318400-1469663999@weemspiano.com
SUMMARY:Baltimore Pipe Organ Encounter
DESCRIPTION:Very exciting event for intermediate piano students ages 13-18 — overnight camp at Towson University\, complete with lessons and organ crawls and concerts.  Reserve your spot now!
URL:https://weemspiano.com/event/baltimore-pipe-organ-encounter
LOCATION:Towson University\, 8000 York Rd\, Towson\, MD\, 21252\, United States
END:VEVENT
END:VCALENDAR