BEGIN:VCALENDAR
VERSION:2.0
PRODID:-//Helen R. Weems Piano Studio - ECPv6.15.20//NONSGML v1.0//EN
CALSCALE:GREGORIAN
METHOD:PUBLISH
X-ORIGINAL-URL:https://weemspiano.com
X-WR-CALDESC:Events for Helen R. Weems Piano Studio
REFRESH-INTERVAL;VALUE=DURATION:PT1H
X-Robots-Tag:noindex
X-PUBLISHED-TTL:PT1H
BEGIN:VTIMEZONE
TZID:America/New_York
BEGIN:DAYLIGHT
TZOFFSETFROM:-0500
TZOFFSETTO:-0400
TZNAME:EDT
DTSTART:20250309T070000
END:DAYLIGHT
BEGIN:STANDARD
TZOFFSETFROM:-0400
TZOFFSETTO:-0500
TZNAME:EST
DTSTART:20251102T060000
END:STANDARD
BEGIN:DAYLIGHT
TZOFFSETFROM:-0500
TZOFFSETTO:-0400
TZNAME:EDT
DTSTART:20260308T070000
END:DAYLIGHT
BEGIN:STANDARD
TZOFFSETFROM:-0400
TZOFFSETTO:-0500
TZNAME:EST
DTSTART:20261101T060000
END:STANDARD
BEGIN:DAYLIGHT
TZOFFSETFROM:-0500
TZOFFSETTO:-0400
TZNAME:EDT
DTSTART:20270314T070000
END:DAYLIGHT
BEGIN:STANDARD
TZOFFSETFROM:-0400
TZOFFSETTO:-0500
TZNAME:EST
DTSTART:20271107T060000
END:STANDARD
END:VTIMEZONE
BEGIN:VEVENT
DTSTART;TZID=America/New_York:20260624T190000
DTEND;TZID=America/New_York:20260624T210000
DTSTAMP:20260423T152723
CREATED:20150829T194735Z
LAST-MODIFIED:20250823T181721Z
UID:197-1782327600-1782334800@weemspiano.com
SUMMARY:Movie-Pizza-Ice Cream Rep Class
DESCRIPTION:OK\, THIS is the event you’ve waited all year for.  What’s not to love?  You get to play your favorite piece\, you get exactly what the title says\, and you go home stuffed and happy. \n  \n 
URL:https://weemspiano.com/event/movie-pizza-ice-cream-rep-class
LOCATION:Helen R. Weems Piano Studio\, 5473 Green Dory Lane\, Columbia\, MD\, 21044\, United States
END:VEVENT
END:VCALENDAR