BEGIN:VCALENDAR
VERSION:2.0
PRODID:-//Helen R. Weems Piano Studio - ECPv6.15.20//NONSGML v1.0//EN
CALSCALE:GREGORIAN
METHOD:PUBLISH
X-WR-CALNAME:Helen R. Weems Piano Studio
X-ORIGINAL-URL:https://weemspiano.com
X-WR-CALDESC:Events for Helen R. Weems Piano Studio
REFRESH-INTERVAL;VALUE=DURATION:PT1H
X-Robots-Tag:noindex
X-PUBLISHED-TTL:PT1H
BEGIN:VTIMEZONE
TZID:America/New_York
BEGIN:DAYLIGHT
TZOFFSETFROM:-0500
TZOFFSETTO:-0400
TZNAME:EDT
DTSTART:20250309T070000
END:DAYLIGHT
BEGIN:STANDARD
TZOFFSETFROM:-0400
TZOFFSETTO:-0500
TZNAME:EST
DTSTART:20251102T060000
END:STANDARD
BEGIN:DAYLIGHT
TZOFFSETFROM:-0500
TZOFFSETTO:-0400
TZNAME:EDT
DTSTART:20260308T070000
END:DAYLIGHT
BEGIN:STANDARD
TZOFFSETFROM:-0400
TZOFFSETTO:-0500
TZNAME:EST
DTSTART:20261101T060000
END:STANDARD
BEGIN:DAYLIGHT
TZOFFSETFROM:-0500
TZOFFSETTO:-0400
TZNAME:EDT
DTSTART:20270314T070000
END:DAYLIGHT
BEGIN:STANDARD
TZOFFSETFROM:-0400
TZOFFSETTO:-0500
TZNAME:EST
DTSTART:20271107T060000
END:STANDARD
END:VTIMEZONE
BEGIN:VEVENT
DTSTART;VALUE=DATE:20260622
DTEND;VALUE=DATE:20260701
DTSTAMP:20260423T200227
CREATED:20150904T214119Z
LAST-MODIFIED:20250823T181820Z
UID:226-1782086400-1782863999@weemspiano.com
SUMMARY:Last Week of Regular Lessons
DESCRIPTION:The studio year runs from September 1 through June 30.   This year’s last week of lessons is from Monday the 22nd through Tuesday the 30th.
URL:https://weemspiano.com/event/last-day-of-lessons-for-monday-students
LOCATION:Helen R. Weems Piano Studio\, 5473 Green Dory Lane\, Columbia\, MD\, 21044\, United States
END:VEVENT
END:VCALENDAR