BEGIN:VCALENDAR
VERSION:2.0
PRODID:-//Helen R. Weems Piano Studio - ECPv6.15.20//NONSGML v1.0//EN
CALSCALE:GREGORIAN
METHOD:PUBLISH
X-WR-CALNAME:Helen R. Weems Piano Studio
X-ORIGINAL-URL:https://weemspiano.com
X-WR-CALDESC:Events for Helen R. Weems Piano Studio
REFRESH-INTERVAL;VALUE=DURATION:PT1H
X-Robots-Tag:noindex
X-PUBLISHED-TTL:PT1H
BEGIN:VTIMEZONE
TZID:America/New_York
BEGIN:DAYLIGHT
TZOFFSETFROM:-0500
TZOFFSETTO:-0400
TZNAME:EDT
DTSTART:20240310T070000
END:DAYLIGHT
BEGIN:STANDARD
TZOFFSETFROM:-0400
TZOFFSETTO:-0500
TZNAME:EST
DTSTART:20241103T060000
END:STANDARD
BEGIN:DAYLIGHT
TZOFFSETFROM:-0500
TZOFFSETTO:-0400
TZNAME:EDT
DTSTART:20250309T070000
END:DAYLIGHT
BEGIN:STANDARD
TZOFFSETFROM:-0400
TZOFFSETTO:-0500
TZNAME:EST
DTSTART:20251102T060000
END:STANDARD
BEGIN:DAYLIGHT
TZOFFSETFROM:-0500
TZOFFSETTO:-0400
TZNAME:EDT
DTSTART:20260308T070000
END:DAYLIGHT
BEGIN:STANDARD
TZOFFSETFROM:-0400
TZOFFSETTO:-0500
TZNAME:EST
DTSTART:20261101T060000
END:STANDARD
BEGIN:DAYLIGHT
TZOFFSETFROM:-0500
TZOFFSETTO:-0400
TZNAME:EDT
DTSTART:20270314T070000
END:DAYLIGHT
BEGIN:STANDARD
TZOFFSETFROM:-0400
TZOFFSETTO:-0500
TZNAME:EST
DTSTART:20271107T060000
END:STANDARD
END:VTIMEZONE
BEGIN:VEVENT
DTSTART;TZID=America/New_York:20260503T191500
DTEND;TZID=America/New_York:20260503T204500
DTSTAMP:20260423T201520
CREATED:20150829T194122Z
LAST-MODIFIED:20250823T181931Z
UID:193-1777835700-1777841100@weemspiano.com
SUMMARY:The Spring Concert!
DESCRIPTION:NEW VENUE!  At Christ Memorial Presbyterian this year!  This is the event you’ve been waiting for all year!  Invite your family to enjoy a lovely evening of music by you and your friends. \nStudent must come early to try out the instrument\, and for the group photo taken at 7:15. The concert itself starts at 7:30pm.  Fee per student (already assessed in annual deposit) to offset the cost of the venue. \n  \n 
URL:https://weemspiano.com/event/spring-concert
LOCATION:Christ Memorial Presbyterian\, 6410 Amherst Avenue\, Columbia\, MD\, 21046\, United States
END:VEVENT
BEGIN:VEVENT
DTSTART;TZID=America/New_York:20260502T073000
DTEND;TZID=America/New_York:20260502T200000
DTSTAMP:20260423T201520
CREATED:20150829T194246Z
LAST-MODIFIED:20251101T223234Z
UID:195-1777707000-1777752000@weemspiano.com
SUMMARY:MSMTA Solo Competition
DESCRIPTION:This is the state piano solo competition.  It is truly ALL DAY.  You may request morning\, afternoon\, or even early evening.
URL:https://weemspiano.com/event/msmta-solo-competition
LOCATION:Clarice Smith @ College Park\, The Clarice Smith Performing Arts Center\, College Park\, MD\, 20742\, United States
END:VEVENT
BEGIN:VEVENT
DTSTART;TZID=America/New_York:20260425T080000
DTEND;TZID=America/New_York:20260425T183000
DTSTAMP:20260423T201520
CREATED:20150829T193651Z
LAST-MODIFIED:20250823T182315Z
UID:190-1777104000-1777141800@weemspiano.com
SUMMARY:GCMTA Spring Piano Competition
DESCRIPTION:Our local competition\, a little friendlier and much easier to get to than other competitions.  Note: all competitions can start very early and go until very late.  The local competition cannot accept requests for certain times of the day\, as there is only one room per age group.  This event takes place this year at Christ Memorial Presbyterian and New Hope Lutheran.
URL:https://weemspiano.com/event/gcmta-spring-competition
LOCATION:Christ Memorial Presbyterian and New Hope Lutheran\, 6410 Amherst Avenue and 8575 Guilford Rd\, Columbia\, 21046\, United States
END:VEVENT
BEGIN:VEVENT
DTSTART;TZID=America/New_York:20260419T130000
DTEND;TZID=America/New_York:20260419T140000
DTSTAMP:20260423T201520
CREATED:20160610T175859Z
LAST-MODIFIED:20260224T041017Z
UID:428-1776603600-1776607200@weemspiano.com
SUMMARY:Spring Outreach Recital
DESCRIPTION:For those who would like to participate in more Outreach Recitals\, and are confident participating without my presence\, these events will give you more performing opportunities\, more outreach opportunities\, and (least important reason to participate) more points toward DMA and Gold Cup.  I expect my students to show up at least 15 minutes early\, to visit with the residents and thank them for hosting. \n  \nI have a conflict for the Outreach Recitals\, but I am glad to enroll anyone who is ready and wishing to perform.  Enrollment is one week prior.
URL:https://weemspiano.com/event/april-outreach-recital
LOCATION:Morningside Assisted Living\, 5330 Dorsey Hall Dr\, Ellicott City\, MD\, 21042\, United States
END:VEVENT
BEGIN:VEVENT
DTSTART;TZID=America/New_York:20260418T193000
DTEND;TZID=America/New_York:20260418T210000
DTSTAMP:20260423T201520
CREATED:20171101T145242Z
LAST-MODIFIED:20250823T182729Z
UID:796-1776540600-1776546000@weemspiano.com
SUMMARY:BEHZOD ABUDURAIMOV\, pianist
DESCRIPTION:This concert is presented by Chamber Music Maryland\, and you are urged by your teacher to attend!  Tickets and instant seat selection are now purchased online by families.  Price is for one adult\, and each adult can order a youth ticket for free\, making this one fabulous value. This concert will be held at HCC.  BUY TICKETS HERE!
URL:https://weemspiano.com/event/simone-dinnerstein-telegraph-quartet-umbc
LOCATION:HCC Horowitz Center\, 10901 Little Patuxent Parkway \, Columbia\, MD\, 21044\, United States
END:VEVENT
BEGIN:VEVENT
DTSTART;TZID=America/New_York:20260412T033000
DTEND;TZID=America/New_York:20260412T170000
DTSTAMP:20260423T201520
CREATED:20150829T192748Z
LAST-MODIFIED:20250823T183409Z
UID:189-1775964600-1776013200@weemspiano.com
SUMMARY:Spring Repertoire Class
DESCRIPTION:Get ready for the Spring Concert\, and competitions\, and the High School Exam!  This rep class takes a little longer to get students prepared for the onslaught of events over the next two weeks.
URL:https://weemspiano.com/event/spring-repertory-class
LOCATION:Helen R. Weems Piano Studio\, 5473 Green Dory Lane\, Columbia\, MD\, 21044\, United States
END:VEVENT
BEGIN:VEVENT
DTSTART;TZID=America/New_York:20260328T193000
DTEND;TZID=America/New_York:20260328T213000
DTSTAMP:20260423T201520
CREATED:20220906T150236Z
LAST-MODIFIED:20250823T182628Z
UID:129912-1774726200-1774733400@weemspiano.com
SUMMARY:ANDERSON & ROE - Concert Outing!
DESCRIPTION:Fabulous performing piano duo\, you will enjoy this thoroughly!  Tickets and instant seat selection are now purchased online by families.  Price is for one adult\, and each adult can order a youth ticket for free\, making this one fabulous value. This concert is presented by Chamber Music Maryland (formerly Candlelight Concert Society)\, which also deserves your support.  BUY TICKETS HERE!
URL:https://weemspiano.com/event/behzod-abduraimov-concert-outing
LOCATION:UMBC\, 1000 Hilltop Circle\, Baltimore\, MD\, 21250\, United States
END:VEVENT
BEGIN:VEVENT
DTSTART;TZID=America/New_York:20260315T140000
DTEND;TZID=America/New_York:20260315T150000
DTSTAMP:20260423T201520
CREATED:20250823T183238Z
LAST-MODIFIED:20260224T041122Z
UID:130260-1773583200-1773586800@weemspiano.com
SUMMARY:March Outreach Recital
DESCRIPTION:For those who would like to participate in more Outreach Recitals\, and are confident participating without my presence\, these events will give you more performing opportunities\, more outreach opportunities\, and (least important reason to participate) more points toward DMA and Gold Cup.  I expect my students to arrive at least 15 minutes early\, and visit with the residents\, and thank them for hosting. \nI have a conflict for the Outreach Recitals\, but I am glad to enroll anyone who is ready and wishing to perform.  Enrollment is one week prior.
URL:https://weemspiano.com/event/march-outreach-recital
LOCATION:Lutheran Village at Miller’s Grant\, 9000 Fathers Legacy\, Ellicott City\, 21042\, United States
END:VEVENT
BEGIN:VEVENT
DTSTART;TZID=America/New_York:20260301T080000
DTEND;TZID=America/New_York:20260301T180000
DTSTAMP:20260423T201520
CREATED:20150829T192528Z
LAST-MODIFIED:20250823T182803Z
UID:186-1772352000-1772388000@weemspiano.com
SUMMARY:MSMTA Ensemble Competition
DESCRIPTION:For competitive duets and trios.
URL:https://weemspiano.com/event/msmta-ensemble-competition
LOCATION:Clarice Smith @ College Park\, The Clarice Smith Performing Arts Center\, College Park\, MD\, 20742\, United States
END:VEVENT
BEGIN:VEVENT
DTSTART;TZID=America/New_York:20260228T090000
DTEND;TZID=America/New_York:20260228T180000
DTSTAMP:20260423T201520
CREATED:20150829T190438Z
LAST-MODIFIED:20251101T223312Z
UID:180-1772269200-1772301600@weemspiano.com
SUMMARY:GCMTA Judged Recital
DESCRIPTION:Here you get to play in a recital format\, but with a judge writing comments for you.  Valuable\, but not as stressful as a competition.
URL:https://weemspiano.com/event/gcmta-judged-recital
LOCATION:Mt. Hebron Presbyterian Church\, 2330 Mt. Hebron Drive\, Ellicott City\, MD\, 21042\, United States
END:VEVENT
BEGIN:VEVENT
DTSTART;TZID=America/New_York:20260222T130000
DTEND;TZID=America/New_York:20260222T140000
DTSTAMP:20260423T201520
CREATED:20170111T195526Z
LAST-MODIFIED:20251106T025312Z
UID:564-1771765200-1771768800@weemspiano.com
SUMMARY:B2N (Back to Normal) Repertoire Class
DESCRIPTION:Let’s find out what you remember from (or forgot in) February.
URL:https://weemspiano.com/event/b2n-back-to-normal-repertoire-class
LOCATION:Helen R. Weems Piano Studio\, 5473 Green Dory Lane\, Columbia\, MD\, 21044\, United States
END:VEVENT
BEGIN:VEVENT
DTSTART;TZID=America/New_York:20260208T113000
DTEND;TZID=America/New_York:20260208T123000
DTSTAMP:20260423T201520
CREATED:20160610T175558Z
LAST-MODIFIED:20260123T040550Z
UID:426-1770550200-1770553800@weemspiano.com
SUMMARY:February Outreach Recital
DESCRIPTION:For those who would like to participate in more Outreach Recitals\, and are confident participating without my presence\, these events will give you more performing opportunities\, more outreach opportunities\, and (least important reason to participate) more points toward DMA and Gold Cup.  I expect my students to arrive at least 15 minutes early\, and visit with the residents\, and thank them for hosting. \nI have a conflict for the Outreach Recitals\, but I am glad to enroll anyone who is ready and wishing to perform.  Enrollment is one week prior.
URL:https://weemspiano.com/event/february-outreach-recital
LOCATION:Brightview Assisted Living\, 6670 Martin Road\, Columbia\, 21044\, United States
END:VEVENT
BEGIN:VEVENT
DTSTART;TZID=America/New_York:20260124T110000
DTEND;TZID=America/New_York:20260124T180000
DTSTAMP:20260423T201520
CREATED:20150829T190230Z
LAST-MODIFIED:20250823T183528Z
UID:179-1769252400-1769277600@weemspiano.com
SUMMARY:GCMTA Friends and Family
DESCRIPTION:Same time and station as the Music Tells the Story Festival.  Choose a family member or friend and play a duet with them.
URL:https://weemspiano.com/event/gcmta-friends-and-family
LOCATION:Christ Episcopal Church\, 6800 Oakland Mills Road\, Columbia\, MD\, 21045\, United States
END:VEVENT
BEGIN:VEVENT
DTSTART;TZID=America/New_York:20260124T110000
DTEND;TZID=America/New_York:20260124T170000
DTSTAMP:20260423T201520
CREATED:20150829T190105Z
LAST-MODIFIED:20250823T183557Z
UID:177-1769252400-1769274000@weemspiano.com
SUMMARY:GCMTA Music Tells the Story
DESCRIPTION:Chaired by your teacher\, this is the happening recital event for GCMTA.  Start thinking what you will play for this fun event\, and write your story!
URL:https://weemspiano.com/event/gcmta-tweets-and-twitters
LOCATION:Christ Episcopal Church\, 6800 Oakland Mills Road\, Columbia\, MD\, 21045\, United States
END:VEVENT
BEGIN:VEVENT
DTSTART;TZID=America/New_York:20260110T163000
DTEND;TZID=America/New_York:20260110T173000
DTSTAMP:20260423T201520
CREATED:20150829T185429Z
LAST-MODIFIED:20260105T220459Z
UID:175-1768062600-1768066200@weemspiano.com
SUMMARY:Winter Repertoire Class
DESCRIPTION:NEW TIME\, DUE TO GCMTA MASTER CLASS AAT 1:30-4PM!  (Come root for Amos\, who is our representative at the Master Class!) \n  \nCome ready to play your selections for all mid-year events — Music Tells the Story\, Friends and Family\, Judged Recital\, Ensemble Competition.
URL:https://weemspiano.com/event/winter-repertory-class
LOCATION:Helen R. Weems Piano Studio\, 5473 Green Dory Lane\, Columbia\, MD\, 21044\, United States
END:VEVENT
BEGIN:VEVENT
DTSTART;TZID=America/New_York:20260110T133000
DTEND;TZID=America/New_York:20260110T160000
DTSTAMP:20260423T201520
CREATED:20190921T232423Z
LAST-MODIFIED:20260105T220220Z
UID:1399-1768051800-1768060800@weemspiano.com
SUMMARY:GCMTA Piano Master Class
DESCRIPTION:Greater Columbia Music Teachers Association is hosting a Master Class this fall\, with clinician Dr. Hsui-Hui Wang. \nPlease consider attending the Master Class.  It is only $5 for students to audit (FIRST TWO STUDENTS ARE ALREADY PAID BY ME!)\, and their parents (the drivers) are free! \nTo audition to perform for the clinician\, please speak to Madame Hélène.  If you are chosen (via an audition process\, deadline December 29)\, you will be charged $30 for your Master Class.
URL:https://weemspiano.com/event/gcmta-piano-master-class
LOCATION:First Evangelical Lutheran Church\, 3604 Chatham Rd\, Ellicott City\, 21042\, United States
END:VEVENT
BEGIN:VEVENT
DTSTART;VALUE=DATE:20251224
DTEND;VALUE=DATE:20260101
DTSTAMP:20260423T201520
CREATED:20160606T032448Z
LAST-MODIFIED:20250823T183709Z
UID:407-1766534400-1767225599@weemspiano.com
SUMMARY:Studio Closed
DESCRIPTION:
URL:https://weemspiano.com/event/studio-closed-2-2
LOCATION:MD
END:VEVENT
BEGIN:VEVENT
DTSTART;TZID=America/New_York:20251221T183000
DTEND;TZID=America/New_York:20251221T200000
DTSTAMP:20260423T201520
CREATED:20150830T073031Z
LAST-MODIFIED:20250823T183741Z
UID:203-1766341800-1766347200@weemspiano.com
SUMMARY:Holiday Caroling
DESCRIPTION:Come join my community for a nice evening that ends with hot cocoa at my place!  Arrive dressed warmly\, with flashlight\, by 6:15 pm.
URL:https://weemspiano.com/event/holiday-caroling
LOCATION:Helen R. Weems Piano Studio\, 5473 Green Dory Lane\, Columbia\, MD\, 21044\, United States
END:VEVENT
BEGIN:VEVENT
DTSTART;TZID=America/New_York:20251214T150000
DTEND;TZID=America/New_York:20251214T170000
DTSTAMP:20260423T201520
CREATED:20201124T034017Z
LAST-MODIFIED:20250823T183808Z
UID:13042-1765724400-1765731600@weemspiano.com
SUMMARY:MSMTA Composers' Circle
DESCRIPTION:For our young creative writers!
URL:https://weemspiano.com/event/msmta-composers-circle-2
LOCATION:University Methodist Church\, 3621 Campus Drive\, College Park\, MD\, 20740\, United States
END:VEVENT
BEGIN:VEVENT
DTSTART;TZID=America/New_York:20251214T150000
DTEND;TZID=America/New_York:20251214T160000
DTSTAMP:20260423T201520
CREATED:20150825T080056Z
LAST-MODIFIED:20251210T185054Z
UID:54-1765724400-1765728000@weemspiano.com
SUMMARY:GCMTA Outreach Recital
DESCRIPTION:Students for this over-popular event will be selected on the basis of having their music prepared well before the postmark deadline of December 7\, with priority given to ensembles and a unique choice of music. \nMy students are expected to arrive 15 minutes early to all events\, and especially at this event\, are to visit with the residents and thank them for hosting.
URL:https://weemspiano.com/event/gcmta-outreach-recital
LOCATION:Lorien Harmony Hall\, 6336 Cedar Lane\, Columbia\, MD\, 21044\, United States
END:VEVENT
BEGIN:VEVENT
DTSTART;TZID=America/New_York:20251207T160000
DTEND;TZID=America/New_York:20251207T183000
DTSTAMP:20260423T201520
CREATED:20150829T191742Z
LAST-MODIFIED:20250823T184545Z
UID:184-1765123200-1765132200@weemspiano.com
SUMMARY:BENJAMIN GROSVENOR - Concert Outing!
DESCRIPTION:Benjamin Grosvenor is a young\, exciting pianist\, playing (again!) Gaspard de la unit! This concert is presented by Chamber Music Maryland\, and you are urged by your teacher to attend!  Tickets and instant seat selection are now purchased online by families.  Price is for one adult\, and each adult can order a youth ticket for free\, making this one fabulous value.  Tickets can be purchased HERE. \n 
URL:https://weemspiano.com/event/yekwon-sunwoo-concert-outing
LOCATION:HCC Horowitz Center\, 10901 Little Patuxent Parkway \, Columbia\, MD\, 21044\, United States
END:VEVENT
BEGIN:VEVENT
DTSTART;TZID=America/New_York:20251206T154500
DTEND;TZID=America/New_York:20251206T170000
DTSTAMP:20260423T201520
CREATED:20150825T075412Z
LAST-MODIFIED:20250823T183932Z
UID:52-1765035900-1765040400@weemspiano.com
SUMMARY:Holiday Repertoire Class
DESCRIPTION:This repertory class gives everyone a chance to play some fun holiday music\, and also for those participating in the Outreach Recital through GCMTA\, a necessary performance trial.
URL:https://weemspiano.com/event/holiday-repertory-class
LOCATION:Helen R. Weems Piano Studio\, 5473 Green Dory Lane\, Columbia\, MD\, 21044\, United States
END:VEVENT
BEGIN:VEVENT
DTSTART;VALUE=DATE:20251127
DTEND;VALUE=DATE:20251128
DTSTAMP:20260423T201520
CREATED:20150825T204702Z
LAST-MODIFIED:20250823T184008Z
UID:88-1764201600-1764287999@weemspiano.com
SUMMARY:Studio Closed
DESCRIPTION:
URL:https://weemspiano.com/event/studio-closed-2
LOCATION:MD
END:VEVENT
BEGIN:VEVENT
DTSTART;TZID=America/New_York:20251123T123000
DTEND;TZID=America/New_York:20251123T160000
DTSTAMP:20260423T201520
CREATED:20240831T165025Z
LAST-MODIFIED:20251101T223127Z
UID:130174-1763901000-1763913600@weemspiano.com
SUMMARY:STUDIO MASTER CLASS WITH BRIAN GANZ!
DESCRIPTION:The Washington Post has written: “One comes away from a recital by pianist Brian Ganz not only exhilarated by the power of the performance but also moved by his search for artistic truth.”  So it is with great excitement that I welcome Mr. Ganz to the piano studio to hold an exclusive master class for my students.  We have scheduled this event for Sunday\, November 23 at 12:30pm\, in my studio.  I encourage ALL my students to audit\, and my more advanced students are preparing for him. \nMr. Ganz shared first prize in the 1989 Marguerite Long Jacques Thibaud International Piano Competition and was third prize-winner of the 1991 Queen Elisabeth of Belgium International Piano Competition.  In April 2026\, Mr. Ganz will give his final performance of Chopin’s complete works\, a 15 year project in partnership with the National Philharmonic and Strathmore Arts Center. \nThis is going to be a special event\, especially for those who will play for him!
URL:https://weemspiano.com/event/studio-master-class-with-dr-bok-hwa-kim
LOCATION:Helen R. Weems Piano Studio\, 5473 Green Dory Lane\, Columbia\, MD\, 21044\, United States
END:VEVENT
BEGIN:VEVENT
DTSTART;TZID=America/New_York:20251116T150000
DTEND;TZID=America/New_York:20251116T170000
DTSTAMP:20260423T201520
CREATED:20220906T150708Z
LAST-MODIFIED:20251101T223340Z
UID:129914-1763305200-1763312400@weemspiano.com
SUMMARY:Brian Ganz - Concert Outing!
DESCRIPTION:Local boy done very\, very\, very good.  The mantle of Chopin Authority has been passed to this gentleman\, and he wears it with aplomb.  Brian Ganz is your Chopin man.  Ticket price (which is very modest) is for an adult\, who receives a free accompanying ticket for attending youth.  Further\, teenagers are free by themselves!  Tickets are available to purchase at the door with cash.  This concert is presented by Sunday’s at Three\, which deserves your support.
URL:https://weemspiano.com/event/brian-ganz-concert-outing
LOCATION:Christ Episcopal Church\, 6800 Oakland Mills Road\, Columbia\, MD\, 21045\, United States
END:VEVENT
BEGIN:VEVENT
DTSTART;TZID=America/New_York:20251024T073000
DTEND;TZID=America/New_York:20251026T190000
DTSTAMP:20260423T201520
CREATED:20150825T074958Z
LAST-MODIFIED:20250823T183105Z
UID:49-1761291000-1761505200@weemspiano.com
SUMMARY:MSMTA Keyboard Examination
DESCRIPTION:All students in this studio are expected to take this exam at least up to Level 5\, and those in the studio know that most students take it up until graduation.  Six students (and counting) have taken it to Level 10!  These live exams take place in my colleagues’ local studios: make sure to specify which day\, and whether you want your exam in the morning or afternoon.
URL:https://weemspiano.com/event/msmta-keyboard-examination
LOCATION:Various local studios\, United States
END:VEVENT
BEGIN:VEVENT
DTSTART;TZID=America/New_York:20251012T140000
DTEND;TZID=America/New_York:20251012T180000
DTSTAMP:20260423T201520
CREATED:20240831T170626Z
LAST-MODIFIED:20250823T184242Z
UID:130180-1760277600-1760292000@weemspiano.com
SUMMARY:Thomas Hecht Master Class at the MSMTA Conference
DESCRIPTION:This Master Class will be held at the studio of Dr. Junko Takahashi in Silver Spring\, and broadcast to the membership of MSMTA live.  If anyone in the studio is chosen to play for Mr. Hecht\, we will all want to watch!  Email me for zoom information.
URL:https://weemspiano.com/event/brian-ganz-master-class-at-the-msmta-conference
LOCATION:zoom
END:VEVENT
BEGIN:VEVENT
DTSTART;TZID=America/New_York:20251005T154500
DTEND;TZID=America/New_York:20251005T170000
DTSTAMP:20260423T201520
CREATED:20150825T074637Z
LAST-MODIFIED:20250823T184149Z
UID:48-1759679100-1759683600@weemspiano.com
SUMMARY:Fall Repertoire Class
DESCRIPTION:Everyone’s chance to get ready for the Keyboard Exam and any other early recital opportunities.
URL:https://weemspiano.com/event/fall-repertory-class
LOCATION:Helen R. Weems Piano Studio\, 5473 Green Dory Lane\, Columbia\, MD\, 21044\, United States
END:VEVENT
BEGIN:VEVENT
DTSTART;TZID=America/New_York:20250824T154500
DTEND;TZID=America/New_York:20250824T170000
DTSTAMP:20260423T201520
CREATED:20150825T073342Z
LAST-MODIFIED:20250716T194028Z
UID:43-1756050300-1756054800@weemspiano.com
SUMMARY:Kick-Off Repertoire Class
DESCRIPTION:OUTDOORS\,  BRING YOUR OWN CHAIR!! \nWELCOME BACK. PLAY WHAT YOU WISH! Come ready to play something for the Keyboard Exam\, or that you played at the last repertory class.
URL:https://weemspiano.com/event/kick-off-repertory-class
LOCATION:Helen R. Weems Piano Studio\, 5473 Green Dory Lane\, Columbia\, MD\, 21044\, United States
END:VEVENT
BEGIN:VEVENT
DTSTART;TZID=America/New_York:20250818T000000
DTEND;TZID=America/New_York:20250821T000000
DTSTAMP:20260423T201520
CREATED:20230820T035915Z
LAST-MODIFIED:20250716T195522Z
UID:130045-1755475200-1755734400@weemspiano.com
SUMMARY:First Week of Lessons
DESCRIPTION:Studio year begins August 18 this year\, and runs to June 26.
URL:https://weemspiano.com/event/first-week-of-lessons
LOCATION:Helen R. Weems Piano Studio\, 5473 Green Dory Lane\, Columbia\, MD\, 21044\, United States
END:VEVENT
END:VCALENDAR